BEGIN:VCALENDAR
VERSION:2.0
PRODID:-//Ray&#039;s Empanadas - ECPv6.15.18//NONSGML v1.0//EN
CALSCALE:GREGORIAN
METHOD:PUBLISH
X-WR-CALNAME:Ray&#039;s Empanadas
X-ORIGINAL-URL:https://raysempanadas.com
X-WR-CALDESC:Events for Ray&#039;s Empanadas
REFRESH-INTERVAL;VALUE=DURATION:PT1H
X-Robots-Tag:noindex
X-PUBLISHED-TTL:PT1H
BEGIN:VTIMEZONE
TZID:America/New_York
BEGIN:DAYLIGHT
TZOFFSETFROM:-0500
TZOFFSETTO:-0400
TZNAME:EDT
DTSTART:20230312T070000
END:DAYLIGHT
BEGIN:STANDARD
TZOFFSETFROM:-0400
TZOFFSETTO:-0500
TZNAME:EST
DTSTART:20231105T060000
END:STANDARD
BEGIN:DAYLIGHT
TZOFFSETFROM:-0500
TZOFFSETTO:-0400
TZNAME:EDT
DTSTART:20240310T070000
END:DAYLIGHT
BEGIN:STANDARD
TZOFFSETFROM:-0400
TZOFFSETTO:-0500
TZNAME:EST
DTSTART:20241103T060000
END:STANDARD
BEGIN:DAYLIGHT
TZOFFSETFROM:-0500
TZOFFSETTO:-0400
TZNAME:EDT
DTSTART:20250309T070000
END:DAYLIGHT
BEGIN:STANDARD
TZOFFSETFROM:-0400
TZOFFSETTO:-0500
TZNAME:EST
DTSTART:20251102T060000
END:STANDARD
END:VTIMEZONE
BEGIN:VTIMEZONE
TZID:UTC
BEGIN:STANDARD
TZOFFSETFROM:+0000
TZOFFSETTO:+0000
TZNAME:UTC
DTSTART:20220101T000000
END:STANDARD
END:VTIMEZONE
BEGIN:VEVENT
DTSTART;TZID=America/New_York:20240316T190000
DTEND;TZID=America/New_York:20240316T190000
DTSTAMP:20260422T185551
CREATED:20240306T024820Z
LAST-MODIFIED:20240306T024915Z
UID:1055-1710615600-1710615600@raysempanadas.com
SUMMARY:SoulJuiceLive at the TreeHouse
DESCRIPTION:SoulJuiceLive is a New York Collective\, that offers a live band experience with food\, drink and other vendors.
URL:https://raysempanadas.com/event/souljuicelive-at-the-treehouse/
LOCATION:The Treehouse\, 643 East 223rd Street\, Bronx\, NY\, United States
END:VEVENT
BEGIN:VEVENT
DTSTART;TZID=UTC:20230916T110000
DTEND;TZID=UTC:20230916T200000
DTSTAMP:20260422T185551
CREATED:20230710T024131Z
LAST-MODIFIED:20230710T024131Z
UID:995-1694862000-1694894400@raysempanadas.com
SUMMARY:Vegandale
DESCRIPTION:
URL:https://raysempanadas.com/event/vegandale/
LOCATION:Randalls Island Park\, 20 Randall Island Park\, New York\, NY\, 10035\, United States
ATTACH;FMTTYPE=image/jpeg:https://raysempanadas.com/wp-content/uploads/2023/07/FF70E2F9-96AB-4CF3-885F-9CEBEF6FADD2.jpeg
END:VEVENT
BEGIN:VEVENT
DTSTART;TZID=UTC:20230805T170000
DTEND;TZID=UTC:20230805T210000
DTSTAMP:20260422T185551
CREATED:20230710T022315Z
LAST-MODIFIED:20230710T022315Z
UID:989-1691254800-1691269200@raysempanadas.com
SUMMARY:GPA Presents: True Colors Arts Festivals
DESCRIPTION:
URL:https://raysempanadas.com/event/gpa-presents-true-colors-arts-festivals/
LOCATION:Beach 94th St\, Boardwalk\, Beach 94th St\, Boardwalk\, Far Rockaway\, NY\, 11693\, United States
ATTACH;FMTTYPE=image/jpeg:https://raysempanadas.com/wp-content/uploads/2023/07/9F8176C1-C906-4F9F-9061-FD5B245E845B.jpeg
END:VEVENT
BEGIN:VEVENT
DTSTART;TZID=UTC:20230723T130000
DTEND;TZID=UTC:20230723T190000
DTSTAMP:20260422T185551
CREATED:20230709T224114Z
LAST-MODIFIED:20230709T224114Z
UID:983-1690117200-1690138800@raysempanadas.com
SUMMARY:JerZey Zeta Takeover
DESCRIPTION:
URL:https://raysempanadas.com/event/jerzey-zeta-takeover/
LOCATION:Cadwalader Park\, Parkside ave & West State St\, Trenton\, NJ\, 08618\, United States
ATTACH;FMTTYPE=image/jpeg:https://raysempanadas.com/wp-content/uploads/2023/07/B62D3AE4-ACC6-4168-9E0A-7AF7D0216A89.jpeg
END:VEVENT
BEGIN:VEVENT
DTSTART;TZID=UTC:20230722T170000
DTEND;TZID=UTC:20230723T000000
DTSTAMP:20260422T185551
CREATED:20230709T215444Z
LAST-MODIFIED:20230709T215504Z
UID:971-1690045200-1690070400@raysempanadas.com
SUMMARY:SoulJuice Live Presents: Chris Denim’s Birthday Celebration
DESCRIPTION:
URL:https://raysempanadas.com/event/souljuice-live-presents-chris-denims-birthday-celebration/
LOCATION:Suggarplums\, 534 North Ave\, New Rochelle\, NY\, 10801\, United States
END:VEVENT
BEGIN:VEVENT
DTSTART;TZID=UTC:20230715T190000
DTEND;TZID=UTC:20230716T000000
DTSTAMP:20260422T185551
CREATED:20230709T223142Z
LAST-MODIFIED:20230709T223142Z
UID:975-1689447600-1689465600@raysempanadas.com
SUMMARY:SoulJuice Live
DESCRIPTION:
URL:https://raysempanadas.com/event/souljuice-live/
LOCATION:Alternative Medicine Brewing\, 29 Elm Ave\, Suite 1A\, Mount Vernon\, NY\, 10550\, United States
ATTACH;FMTTYPE=image/jpeg:https://raysempanadas.com/wp-content/uploads/2023/07/339DE4CE-8D64-48C5-9893-AE3E70A4EB64.jpeg
END:VEVENT
BEGIN:VEVENT
DTSTART;TZID=UTC:20230710T000000
DTEND;TZID=UTC:20230710T000000
DTSTAMP:20260422T185551
CREATED:20230710T023615Z
LAST-MODIFIED:20230710T023615Z
UID:992-1688947200-1688947200@raysempanadas.com
SUMMARY:New Rochelle Street Fair
DESCRIPTION:
URL:https://raysempanadas.com/event/new-rochelle-street-fair/
LOCATION:515 North Ave\, 515 North Ave\, New Rochelle\, NY\, 10801\, United States
ATTACH;FMTTYPE=image/jpeg:https://raysempanadas.com/wp-content/uploads/2023/07/9763BCFA-F28D-4C72-A338-E9E172CC03BE.jpeg
END:VEVENT
BEGIN:VEVENT
DTSTART;TZID=UTC:20230708T080000
DTEND;TZID=UTC:20230708T170000
DTSTAMP:20260422T185551
CREATED:20230707T185620Z
LAST-MODIFIED:20230707T185620Z
UID:906-1688803200-1688835600@raysempanadas.com
SUMMARY:Sample Event
DESCRIPTION:Description goes here.
URL:https://raysempanadas.com/event/sample-event/
LOCATION:Sample Venue\, 1234 Smith Street\, New York City\, NY\, 10805\, United States
END:VEVENT
END:VCALENDAR