BEGIN:VCALENDAR
VERSION:2.0
PRODID:-//Ray&#039;s Empanadas - ECPv6.15.18//NONSGML v1.0//EN
CALSCALE:GREGORIAN
METHOD:PUBLISH
X-WR-CALNAME:Ray&#039;s Empanadas
X-ORIGINAL-URL:https://raysempanadas.com
X-WR-CALDESC:Events for Ray&#039;s Empanadas
REFRESH-INTERVAL;VALUE=DURATION:PT1H
X-Robots-Tag:noindex
X-PUBLISHED-TTL:PT1H
BEGIN:VTIMEZONE
TZID:UTC
BEGIN:STANDARD
TZOFFSETFROM:+0000
TZOFFSETTO:+0000
TZNAME:UTC
DTSTART:20220101T000000
END:STANDARD
END:VTIMEZONE
BEGIN:VEVENT
DTSTART;TZID=UTC:20230708T080000
DTEND;TZID=UTC:20230708T170000
DTSTAMP:20260424T060643
CREATED:20230707T185620Z
LAST-MODIFIED:20230707T185620Z
UID:906-1688803200-1688835600@raysempanadas.com
SUMMARY:Sample Event
DESCRIPTION:Description goes here.
URL:https://raysempanadas.com/event/sample-event/
LOCATION:Sample Venue\, 1234 Smith Street\, New York City\, NY\, 10805\, United States
END:VEVENT
END:VCALENDAR