BEGIN:VCALENDAR
VERSION:2.0
PRODID:-//Ray&#039;s Empanadas - ECPv6.15.18//NONSGML v1.0//EN
CALSCALE:GREGORIAN
METHOD:PUBLISH
X-WR-CALNAME:Ray&#039;s Empanadas
X-ORIGINAL-URL:https://raysempanadas.com
X-WR-CALDESC:Events for Ray&#039;s Empanadas
REFRESH-INTERVAL;VALUE=DURATION:PT1H
X-Robots-Tag:noindex
X-PUBLISHED-TTL:PT1H
BEGIN:VTIMEZONE
TZID:America/New_York
BEGIN:DAYLIGHT
TZOFFSETFROM:-0500
TZOFFSETTO:-0400
TZNAME:EDT
DTSTART:20230312T070000
END:DAYLIGHT
BEGIN:STANDARD
TZOFFSETFROM:-0400
TZOFFSETTO:-0500
TZNAME:EST
DTSTART:20231105T060000
END:STANDARD
BEGIN:DAYLIGHT
TZOFFSETFROM:-0500
TZOFFSETTO:-0400
TZNAME:EDT
DTSTART:20240310T070000
END:DAYLIGHT
BEGIN:STANDARD
TZOFFSETFROM:-0400
TZOFFSETTO:-0500
TZNAME:EST
DTSTART:20241103T060000
END:STANDARD
BEGIN:DAYLIGHT
TZOFFSETFROM:-0500
TZOFFSETTO:-0400
TZNAME:EDT
DTSTART:20250309T070000
END:DAYLIGHT
BEGIN:STANDARD
TZOFFSETFROM:-0400
TZOFFSETTO:-0500
TZNAME:EST
DTSTART:20251102T060000
END:STANDARD
END:VTIMEZONE
BEGIN:VTIMEZONE
TZID:UTC
BEGIN:STANDARD
TZOFFSETFROM:+0000
TZOFFSETTO:+0000
TZNAME:UTC
DTSTART:20230101T000000
END:STANDARD
END:VTIMEZONE
BEGIN:VEVENT
DTSTART;TZID=America/New_York:20240316T190000
DTEND;TZID=America/New_York:20240316T190000
DTSTAMP:20260421T184627
CREATED:20240306T024820Z
LAST-MODIFIED:20240306T024915Z
UID:1055-1710615600-1710615600@raysempanadas.com
SUMMARY:SoulJuiceLive at the TreeHouse
DESCRIPTION:SoulJuiceLive is a New York Collective\, that offers a live band experience with food\, drink and other vendors.
URL:https://raysempanadas.com/event/souljuicelive-at-the-treehouse/
LOCATION:The Treehouse\, 643 East 223rd Street\, Bronx\, NY\, United States
END:VEVENT
BEGIN:VEVENT
DTSTART;TZID=UTC:20240323T100000
DTEND;TZID=UTC:20240324T160000
DTSTAMP:20260421T184627
CREATED:20240306T025457Z
LAST-MODIFIED:20240306T025530Z
UID:1059-1711188000-1711296000@raysempanadas.com
SUMMARY:EASTER EGGSTRAVAGANZA - Weekend 1
DESCRIPTION:
URL:https://raysempanadas.com/event/easter-eggstravaganza-weekend-1/
LOCATION:Barley Beach House – Rye Park\, 95 Dearborn Ave\, Rye\, NY\, United States
END:VEVENT
BEGIN:VEVENT
DTSTART;TZID=UTC:20240330T100000
DTEND;TZID=UTC:20240330T160000
DTSTAMP:20260421T184627
CREATED:20240306T025558Z
LAST-MODIFIED:20240306T030050Z
UID:1062-1711792800-1711814400@raysempanadas.com
SUMMARY:EASTER EGGSTRAVAGANZA - Weekend 2
DESCRIPTION:
URL:https://raysempanadas.com/event/easter-eggstravaganza-weekend-2/
LOCATION:Barley Beach House – Rye Park\, 95 Dearborn Ave\, Rye\, NY\, United States
END:VEVENT
BEGIN:VEVENT
DTSTART;VALUE=DATE:20240426
DTEND;VALUE=DATE:20240427
DTSTAMP:20260421T184627
CREATED:20240306T030202Z
LAST-MODIFIED:20240306T030202Z
UID:1064-1714089600-1714175999@raysempanadas.com
SUMMARY:Culture Shock Festival at Purchase College
DESCRIPTION:
URL:https://raysempanadas.com/event/culture-shock-festival-at-purchase-college/
END:VEVENT
BEGIN:VEVENT
DTSTART;TZID=UTC:20240511T140000
DTEND;TZID=UTC:20240511T180000
DTSTAMP:20260421T184627
CREATED:20240306T030302Z
LAST-MODIFIED:20240306T030405Z
UID:1066-1715436000-1715450400@raysempanadas.com
SUMMARY:Suds on the Sound - Craft Beer Festival
DESCRIPTION:
URL:https://raysempanadas.com/event/suds-on-the-sound/
LOCATION:Barley Beach House – Rye Park\, 95 Dearborn Ave\, Rye\, NY\, United States
END:VEVENT
BEGIN:VEVENT
DTSTART;TZID=UTC:20240518T153000
DTEND;TZID=UTC:20240518T193000
DTSTAMP:20260421T184627
CREATED:20240306T030835Z
LAST-MODIFIED:20240306T030835Z
UID:1069-1716046200-1716060600@raysempanadas.com
SUMMARY:NY Gridlock Ultimate Game
DESCRIPTION:
URL:https://raysempanadas.com/event/ny-gridlock-ultimate-game/
LOCATION:Joseph Fosina Field\, Flowers Park\, New Rochelle\, NY\, United States
END:VEVENT
BEGIN:VEVENT
DTSTART;TZID=UTC:20240608T120000
DTEND;TZID=UTC:20240608T160000
DTSTAMP:20260421T184627
CREATED:20240306T031027Z
LAST-MODIFIED:20240306T031027Z
UID:1072-1717848000-1717862400@raysempanadas.com
SUMMARY:Westchester Magazine’s Grand Tasting Village
DESCRIPTION:
URL:https://raysempanadas.com/event/westchester-magazines-grand-tasting-village/
LOCATION:Kensico Dam\, 1 Bronx River Parkway\, Valhalla\, NY\, United States
END:VEVENT
BEGIN:VEVENT
DTSTART;TZID=UTC:20240616T120000
DTEND;TZID=UTC:20240616T170000
DTSTAMP:20260421T184627
CREATED:20240306T031114Z
LAST-MODIFIED:20240306T031114Z
UID:1075-1718539200-1718557200@raysempanadas.com
SUMMARY:Father’s Day Festival
DESCRIPTION:
URL:https://raysempanadas.com/event/fathers-day-festival/
LOCATION:Barley Beach House – Rye Park\, 95 Dearborn Ave\, Rye\, NY\, United States
END:VEVENT
BEGIN:VEVENT
DTSTART;TZID=UTC:20240703T180000
DTEND;TZID=UTC:20240703T200000
DTSTAMP:20260421T184627
CREATED:20240306T031907Z
LAST-MODIFIED:20240306T031907Z
UID:1077-1720029600-1720036800@raysempanadas.com
SUMMARY:New Rochelle - Summer Series at Hudson Park
DESCRIPTION:
URL:https://raysempanadas.com/event/new-rochelle-summer-series-at-hudson-park/
END:VEVENT
BEGIN:VEVENT
DTSTART;TZID=UTC:20240726T180000
DTEND;TZID=UTC:20240726T200000
DTSTAMP:20260421T184627
CREATED:20240306T032022Z
LAST-MODIFIED:20240306T032022Z
UID:1079-1722016800-1722024000@raysempanadas.com
SUMMARY:New Rochelle - Summer Series at Hudson Park
DESCRIPTION:
URL:https://raysempanadas.com/event/new-rochelle-summer-series-at-hudson-park-2/
END:VEVENT
BEGIN:VEVENT
DTSTART;TZID=UTC:20240731T190000
DTEND;TZID=UTC:20240731T210000
DTSTAMP:20260421T184627
CREATED:20240724T191921Z
LAST-MODIFIED:20240724T191921Z
UID:1102-1722452400-1722459600@raysempanadas.com
SUMMARY:New Rochelle - Summer Series at Hudson Park
DESCRIPTION:
URL:https://raysempanadas.com/event/new-rochelle-summer-series-at-hudson-park-4/
END:VEVENT
BEGIN:VEVENT
DTSTART;TZID=UTC:20240803T120000
DTEND;TZID=UTC:20240803T203000
DTSTAMP:20260421T184627
CREATED:20240724T192027Z
LAST-MODIFIED:20240724T192027Z
UID:1104-1722686400-1722717000@raysempanadas.com
SUMMARY:New Rochelle - Ruby Dee Park TeenFest & Summer Sizzle Concert
DESCRIPTION:
URL:https://raysempanadas.com/event/new-rochelle-ruby-dee-park-teenfest-summer-sizzle-concert/
END:VEVENT
BEGIN:VEVENT
DTSTART;TZID=UTC:20240810T170000
DTEND;TZID=UTC:20240810T203000
DTSTAMP:20260421T184627
CREATED:20240724T192147Z
LAST-MODIFIED:20240724T192147Z
UID:1106-1723309200-1723321800@raysempanadas.com
SUMMARY:New Rochelle - Summer Sizzle Concert at Ruby Dee Park
DESCRIPTION:
URL:https://raysempanadas.com/event/new-rochelle-summer-sizzle-concert-at-ruby-dee-park/
END:VEVENT
BEGIN:VEVENT
DTSTART;TZID=UTC:20240814T180000
DTEND;TZID=UTC:20240814T200000
DTSTAMP:20260421T184627
CREATED:20240306T032057Z
LAST-MODIFIED:20240306T032057Z
UID:1081-1723658400-1723665600@raysempanadas.com
SUMMARY:New Rochelle - Summer Series at Hudson Park
DESCRIPTION:
URL:https://raysempanadas.com/event/new-rochelle-summer-series-at-hudson-park-3/
END:VEVENT
BEGIN:VEVENT
DTSTART;TZID=UTC:20240816T100000
DTEND;TZID=UTC:20240816T180000
DTSTAMP:20260421T184627
CREATED:20240724T192313Z
LAST-MODIFIED:20240724T192313Z
UID:1108-1723802400-1723831200@raysempanadas.com
SUMMARY:Jacobi Medical Center Food Truck Fest
DESCRIPTION:
URL:https://raysempanadas.com/event/jacobi-medical-center-food-truck-fest/
END:VEVENT
BEGIN:VEVENT
DTSTART;TZID=UTC:20240821T130000
DTEND;TZID=UTC:20240821T170000
DTSTAMP:20260421T184627
CREATED:20240724T192434Z
LAST-MODIFIED:20240724T192434Z
UID:1110-1724245200-1724259600@raysempanadas.com
SUMMARY:Westwood Swim & Tennis Club - Thornwood\, NY
DESCRIPTION:
URL:https://raysempanadas.com/event/westwood-swim-tennis-club-thornwood-ny/
END:VEVENT
BEGIN:VEVENT
DTSTART;TZID=UTC:20240914T110000
DTEND;TZID=UTC:20240914T170000
DTSTAMP:20260421T184627
CREATED:20240724T192719Z
LAST-MODIFIED:20240724T192719Z
UID:1112-1726311600-1726333200@raysempanadas.com
SUMMARY:New Rochelle Street Fair
DESCRIPTION:
URL:https://raysempanadas.com/event/new-rochelle-street-fair-2/
END:VEVENT
BEGIN:VEVENT
DTSTART;TZID=UTC:20240921T130000
DTEND;TZID=UTC:20240921T170000
DTSTAMP:20260421T184627
CREATED:20240724T192800Z
LAST-MODIFIED:20240724T192800Z
UID:1114-1726923600-1726938000@raysempanadas.com
SUMMARY:Wine Walk at Rye Town Park
DESCRIPTION:
URL:https://raysempanadas.com/event/wine-walk-at-rye-town-park/
END:VEVENT
BEGIN:VEVENT
DTSTART;TZID=UTC:20241004T150000
DTEND;TZID=UTC:20241004T210000
DTSTAMP:20260421T184627
CREATED:20240724T193014Z
LAST-MODIFIED:20240724T193014Z
UID:1116-1728054000-1728075600@raysempanadas.com
SUMMARY:Broken Bow Brewery
DESCRIPTION:
URL:https://raysempanadas.com/event/broken-bow-brewery/
END:VEVENT
BEGIN:VEVENT
DTSTART;TZID=UTC:20241013T120000
DTEND;TZID=UTC:20241013T200000
DTSTAMP:20260421T184627
CREATED:20240724T193054Z
LAST-MODIFIED:20240724T193054Z
UID:1118-1728820800-1728849600@raysempanadas.com
SUMMARY:Broken Bow Brewery
DESCRIPTION:
URL:https://raysempanadas.com/event/broken-bow-brewery-2/
END:VEVENT
END:VCALENDAR